BEGIN:VCALENDAR
VERSION:2.0
PRODID:-//Squarespace Inc/Squarespace 6//v6//EN
BEGIN:VEVENT
UID:5b1ddcac6d2a73d2cc200d65@squarespace.com
DTSTAMP:20180611T023223Z
DTSTART:20180615T213000Z
DTEND:20180616T020000Z
SUMMARY:Young Vit Awards Dinner
END:VEVENT
END:VCALENDAR
