BEGIN:VCALENDAR
VERSION:2.0
PRODID:-//Squarespace Inc/Squarespace 6//v6//EN
BEGIN:VEVENT
UID:5b1dda8903ce643a81963a28@squarespace.com
DTSTAMP:20180611T022113Z
DTSTART:20180728T140000Z
DTEND:20180728T200000Z
SUMMARY:Truffle Time at Black Estate
END:VEVENT
END:VCALENDAR
