BEGIN:VCALENDAR
VERSION:2.0
PRODID:-//Squarespace Inc/Squarespace 6//v6//EN
BEGIN:VEVENT
UID:5b85cca8032be4bb362550f5@squarespace.com
DTSTAMP:20180908T024801Z
DTSTART:20181025T210000Z
DTEND:20181026T000000Z
SUMMARY:Taste North Canterbury 
END:VEVENT
END:VCALENDAR
