BEGIN:VCALENDAR
VERSION:2.0
PRODID:-//Squarespace Inc/Squarespace 6//v6//EN
BEGIN:VEVENT
UID:5ae796c98a922d0ba6ea4b00@squarespace.com
DTSTAMP:20180524T223920Z
DTSTART:20190310T150000Z
DTEND:20190310T160000Z
SUMMARY:North Canterbury Wine & Food Festival
GEO:-43.020058;172.775641
LOCATION:Glenmark Drive\, Waipara\, Canterbury\, 7483\, New Zealand
END:VEVENT
END:VCALENDAR
