BEGIN:VCALENDAR
VERSION:2.0
PRODID:-//Squarespace Inc/Squarespace 6//v6//EN
BEGIN:VEVENT
UID:5ae79e401ae6cf129273f44d@squarespace.com
DTSTAMP:20180504T022112Z
DTSTART:20180907T220000Z
DTEND:20180909T230000Z
SUMMARY:Cheviot Spring Festival
END:VEVENT
END:VCALENDAR
