BEGIN:VCALENDAR
VERSION:2.0
PRODID:-//Squarespace Inc/Squarespace 6//v6//EN
BEGIN:VEVENT
UID:5ae79ad1352f530f09b14484@squarespace.com
DTSTAMP:20180504T022011Z
DTSTART:20180715T140000Z
DTEND:20180730T120000Z
SUMMARY:Truffle Festival
END:VEVENT
END:VCALENDAR
