BEGIN:VCALENDAR
VERSION:2.0
PRODID:-//Squarespace Inc/Squarespace 6//v6//EN
BEGIN:VEVENT
UID:5ae79c47aa4a994ac02a66e8@squarespace.com
DTSTAMP:20180520T233014Z
DTSTART:20180518T140000Z
DTEND:20180521T010000Z
SUMMARY:The Great Greta Valley Hunt 
END:VEVENT
END:VCALENDAR
