BEGIN:VCALENDAR
VERSION:2.0
PRODID:-//Squarespace Inc/Squarespace 6//v6//EN
BEGIN:VEVENT
UID:5ae79bcef950b727213cbb93@squarespace.com
DTSTAMP:20180504T021724Z
DTSTART:20180430T230000Z
DTEND:20180501T000000Z
SUMMARY:PwC Opera at Pegasus Bay
END:VEVENT
END:VCALENDAR
