BEGIN:VCALENDAR
VERSION:2.0
PRODID:-//Squarespace Inc/Squarespace 6//v6//EN
BEGIN:VEVENT
UID:5ae79d1e2b6a280e79970425@squarespace.com
DTSTAMP:20180504T021756Z
DTSTART:20181027T140000Z
DTEND:20181027T220000Z
SUMMARY:Amberley A&P Show
END:VEVENT
END:VCALENDAR
