BEGIN:VCALENDAR
VERSION:2.0
PRODID:-//Squarespace Inc/Squarespace 6//v6//EN
BEGIN:VEVENT
UID:5ae79cc0758d463286239b38@squarespace.com
DTSTAMP:20180504T021910Z
DTSTART:20181025T140000Z
DTEND:20181025T140000Z
SUMMARY:The Christmas Country Fête
END:VEVENT
END:VCALENDAR
