BEGIN:VCALENDAR
VERSION:2.0
PRODID:-//Squarespace Inc/Squarespace 6//v6//EN
BEGIN:VEVENT
UID:5ae79d9e1ae6cf129273cfbb@squarespace.com
DTSTAMP:20180504T021846Z
DTSTART:20181025T220000Z
DTEND:20181028T230000Z
SUMMARY:Art in a Garden
END:VEVENT
END:VCALENDAR
